BEGIN:VCALENDAR
VERSION:2.0
PRODID:-//Contratero//ES
CALSCALE:GREGORIAN
METHOD:PUBLISH
BEGIN:VEVENT
UID:SSCC PA 228/18@contratero.es
DTSTAMP:20260423T212030Z
DTSTART:20181217T235959
DTEND:20181218T005959
SUMMARY:Cierre: Implantación de una base de datos asistencial corp
DESCRIPTION:Implantación de una base de datos asistencial corporativa para el Servei de Salut de las Illes Balears\\n\\nOrganismo: Servicio de Salud de las Illes Balears\\n\\nVer en Contratero: https://contratero.es/contracts/SSCC PA 228/18
URL:https://contratero.es/contracts/SSCC PA 228/18
STATUS:CONFIRMED
BEGIN:VALARM
TRIGGER:-P1D
ACTION:DISPLAY
DESCRIPTION:Recordatorio: Implantación de una base de da
END:VALARM
END:VEVENT
END:VCALENDAR